<?xml version="1.0" encoding="UTF-8"?>
<Capabilities xmlns="http://www.opengis.net/wmts/1.0" xmlns:ows="http://www.opengis.net/ows/1.1" xmlns:xlink="http://www.w3.org/1999/xlink" xmlns:xsi="http://www.w3.org/2001/XMLSchema-instance" xsi:schemaLocation="http://www.opengis.net/wmts/1.0 http://schemas.opengis.net/wmts/1.0/wmtsGetCapabilities_response.xsd" version="1.0.0">
  <ows:ServiceIdentification>
    <ows:Title>Kodiak Island orthoimagery 2004-2011 (USDA-FSA HRO)</ows:Title>
    <ows:Abstract>Mosaic of natural-color orthophotos of Kodiak Island, Alaska, acquired in 2004, 2006, 2009, 2010 and 2011 by the USDA Farm Service Agency Aerial Photography Field Office (2009-2011 flown by Aero-Metric, Inc.), distributed by USGS EROS as High Resolution Orthoimagery. Where years overlap the newest is shown. Public domain. The originator notes these are interim releases that may contain defects and have horizontal accuracy less than the specified tolerances. Attribution: Imagery: USDA-FSA Aerial Photography Field Office, 2004-2011 | USGS EROS High Resolution Orthoimagery (doi:10.5066/F73X84W6) | Prepared and hosted by Dumm Software LLC.</ows:Abstract>
    <ows:ServiceType>OGC WMTS</ows:ServiceType>
    <ows:ServiceTypeVersion>1.0.0</ows:ServiceTypeVersion>
    <ows:Fees>none</ows:Fees>
    <ows:AccessConstraints>none</ows:AccessConstraints>
  </ows:ServiceIdentification>
  <ows:ServiceProvider>
    <ows:ProviderName>Dumm Software LLC</ows:ProviderName>
    <ows:ServiceContact/>
  </ows:ServiceProvider>
  <Contents>
    <Layer>
      <ows:Title>Kodiak Island orthoimagery 2004-2011 (USDA-FSA HRO)</ows:Title>
      <ows:Abstract>Mosaic of natural-color orthophotos of Kodiak Island, Alaska, acquired in 2004, 2006, 2009, 2010 and 2011 by the USDA Farm Service Agency Aerial Photography Field Office (2009-2011 flown by Aero-Metric, Inc.), distributed by USGS EROS as High Resolution Orthoimagery. Where years overlap the newest is shown. Public domain. The originator notes these are interim releases that may contain defects and have horizontal accuracy less than the specified tolerances. Attribution: Imagery: USDA-FSA Aerial Photography Field Office, 2004-2011 | USGS EROS High Resolution Orthoimagery (doi:10.5066/F73X84W6) | Prepared and hosted by Dumm Software LLC.</ows:Abstract>
      <ows:WGS84BoundingBox>
        <ows:LowerCorner>-154.9587571 56.3712636</ows:LowerCorner>
        <ows:UpperCorner>-151.6398239 58.7548744</ows:UpperCorner>
      </ows:WGS84BoundingBox>
      <ows:Identifier>hro</ows:Identifier>
      <Style isDefault="true">
        <ows:Identifier>default</ows:Identifier>
      </Style>
      <Format>image/png</Format>
      <TileMatrixSetLink>
        <TileMatrixSet>WebMercatorQuad512</TileMatrixSet>
        <TileMatrixSetLimits>
          <TileMatrixLimits>
            <TileMatrix>5</TileMatrix>
            <MinTileRow>9</MinTileRow>
            <MaxTileRow>9</MaxTileRow>
            <MinTileCol>2</MinTileCol>
            <MaxTileCol>2</MaxTileCol>
          </TileMatrixLimits>
          <TileMatrixLimits>
            <TileMatrix>6</TileMatrix>
            <MinTileRow>19</MinTileRow>
            <MaxTileRow>19</MaxTileRow>
            <MinTileCol>4</MinTileCol>
            <MaxTileCol>5</MaxTileCol>
          </TileMatrixLimits>
          <TileMatrixLimits>
            <TileMatrix>7</TileMatrix>
            <MinTileRow>38</MinTileRow>
            <MaxTileRow>39</MaxTileRow>
            <MinTileCol>8</MinTileCol>
            <MaxTileCol>10</MaxTileCol>
          </TileMatrixLimits>
          <TileMatrixLimits>
            <TileMatrix>8</TileMatrix>
            <MinTileRow>76</MinTileRow>
            <MaxTileRow>79</MaxTileRow>
            <MinTileCol>17</MinTileCol>
            <MaxTileCol>20</MaxTileCol>
          </TileMatrixLimits>
          <TileMatrixLimits>
            <TileMatrix>9</TileMatrix>
            <MinTileRow>152</MinTileRow>
            <MaxTileRow>158</MaxTileRow>
            <MinTileCol>35</MinTileCol>
            <MaxTileCol>40</MaxTileCol>
          </TileMatrixLimits>
          <TileMatrixLimits>
            <TileMatrix>10</TileMatrix>
            <MinTileRow>304</MinTileRow>
            <MaxTileRow>316</MaxTileRow>
            <MinTileCol>71</MinTileCol>
            <MaxTileCol>80</MaxTileCol>
          </TileMatrixLimits>
          <TileMatrixLimits>
            <TileMatrix>11</TileMatrix>
            <MinTileRow>608</MinTileRow>
            <MaxTileRow>633</MaxTileRow>
            <MinTileCol>142</MinTileCol>
            <MaxTileCol>161</MaxTileCol>
          </TileMatrixLimits>
          <TileMatrixLimits>
            <TileMatrix>12</TileMatrix>
            <MinTileRow>1217</MinTileRow>
            <MaxTileRow>1267</MaxTileRow>
            <MinTileCol>284</MinTileCol>
            <MaxTileCol>322</MaxTileCol>
          </TileMatrixLimits>
          <TileMatrixLimits>
            <TileMatrix>13</TileMatrix>
            <MinTileRow>2434</MinTileRow>
            <MaxTileRow>2535</MaxTileRow>
            <MinTileCol>569</MinTileCol>
            <MaxTileCol>645</MaxTileCol>
          </TileMatrixLimits>
          <TileMatrixLimits>
            <TileMatrix>14</TileMatrix>
            <MinTileRow>4869</MinTileRow>
            <MaxTileRow>5071</MaxTileRow>
            <MinTileCol>1139</MinTileCol>
            <MaxTileCol>1290</MaxTileCol>
          </TileMatrixLimits>
          <TileMatrixLimits>
            <TileMatrix>15</TileMatrix>
            <MinTileRow>9738</MinTileRow>
            <MaxTileRow>10143</MaxTileRow>
            <MinTileCol>2279</MinTileCol>
            <MaxTileCol>2581</MaxTileCol>
          </TileMatrixLimits>
          <TileMatrixLimits>
            <TileMatrix>16</TileMatrix>
            <MinTileRow>19476</MinTileRow>
            <MaxTileRow>20286</MaxTileRow>
            <MinTileCol>4558</MinTileCol>
            <MaxTileCol>5162</MaxTileCol>
          </TileMatrixLimits>
        </TileMatrixSetLimits>
      </TileMatrixSetLink>
      <ResourceURL format="image/png" resourceType="tile" template="https://tileserver.dummthings.dev/kodiak/hro/tiles/WebMercatorQuad/{TileMatrix}/{TileCol}/{TileRow}.png"/>
    </Layer>
    <TileMatrixSet>
      <ows:Identifier>WebMercatorQuad512</ows:Identifier>
      <ows:SupportedCRS>urn:ogc:def:crs:EPSG::3857</ows:SupportedCRS>
      <TileMatrix>
        <ows:Identifier>0</ows:Identifier>
        <ScaleDenominator>279541132.0143589</ScaleDenominator>
        <TopLeftCorner>-20037508.3427892 20037508.3427892</TopLeftCorner>
        <TileWidth>512</TileWidth>
        <TileHeight>512</TileHeight>
        <MatrixWidth>1</MatrixWidth>
        <MatrixHeight>1</MatrixHeight>
      </TileMatrix>
      <TileMatrix>
        <ows:Identifier>1</ows:Identifier>
        <ScaleDenominator>139770566.00717944</ScaleDenominator>
        <TopLeftCorner>-20037508.3427892 20037508.3427892</TopLeftCorner>
        <TileWidth>512</TileWidth>
        <TileHeight>512</TileHeight>
        <MatrixWidth>2</MatrixWidth>
        <MatrixHeight>2</MatrixHeight>
      </TileMatrix>
      <TileMatrix>
        <ows:Identifier>2</ows:Identifier>
        <ScaleDenominator>69885283.00358972</ScaleDenominator>
        <TopLeftCorner>-20037508.3427892 20037508.3427892</TopLeftCorner>
        <TileWidth>512</TileWidth>
        <TileHeight>512</TileHeight>
        <MatrixWidth>4</MatrixWidth>
        <MatrixHeight>4</MatrixHeight>
      </TileMatrix>
      <TileMatrix>
        <ows:Identifier>3</ows:Identifier>
        <ScaleDenominator>34942641.50179486</ScaleDenominator>
        <TopLeftCorner>-20037508.3427892 20037508.3427892</TopLeftCorner>
        <TileWidth>512</TileWidth>
        <TileHeight>512</TileHeight>
        <MatrixWidth>8</MatrixWidth>
        <MatrixHeight>8</MatrixHeight>
      </TileMatrix>
      <TileMatrix>
        <ows:Identifier>4</ows:Identifier>
        <ScaleDenominator>17471320.75089743</ScaleDenominator>
        <TopLeftCorner>-20037508.3427892 20037508.3427892</TopLeftCorner>
        <TileWidth>512</TileWidth>
        <TileHeight>512</TileHeight>
        <MatrixWidth>16</MatrixWidth>
        <MatrixHeight>16</MatrixHeight>
      </TileMatrix>
      <TileMatrix>
        <ows:Identifier>5</ows:Identifier>
        <ScaleDenominator>8735660.375448715</ScaleDenominator>
        <TopLeftCorner>-20037508.3427892 20037508.3427892</TopLeftCorner>
        <TileWidth>512</TileWidth>
        <TileHeight>512</TileHeight>
        <MatrixWidth>32</MatrixWidth>
        <MatrixHeight>32</MatrixHeight>
      </TileMatrix>
      <TileMatrix>
        <ows:Identifier>6</ows:Identifier>
        <ScaleDenominator>4367830.1877243575</ScaleDenominator>
        <TopLeftCorner>-20037508.3427892 20037508.3427892</TopLeftCorner>
        <TileWidth>512</TileWidth>
        <TileHeight>512</TileHeight>
        <MatrixWidth>64</MatrixWidth>
        <MatrixHeight>64</MatrixHeight>
      </TileMatrix>
      <TileMatrix>
        <ows:Identifier>7</ows:Identifier>
        <ScaleDenominator>2183915.0938621787</ScaleDenominator>
        <TopLeftCorner>-20037508.3427892 20037508.3427892</TopLeftCorner>
        <TileWidth>512</TileWidth>
        <TileHeight>512</TileHeight>
        <MatrixWidth>128</MatrixWidth>
        <MatrixHeight>128</MatrixHeight>
      </TileMatrix>
      <TileMatrix>
        <ows:Identifier>8</ows:Identifier>
        <ScaleDenominator>1091957.5469310894</ScaleDenominator>
        <TopLeftCorner>-20037508.3427892 20037508.3427892</TopLeftCorner>
        <TileWidth>512</TileWidth>
        <TileHeight>512</TileHeight>
        <MatrixWidth>256</MatrixWidth>
        <MatrixHeight>256</MatrixHeight>
      </TileMatrix>
      <TileMatrix>
        <ows:Identifier>9</ows:Identifier>
        <ScaleDenominator>545978.7734655447</ScaleDenominator>
        <TopLeftCorner>-20037508.3427892 20037508.3427892</TopLeftCorner>
        <TileWidth>512</TileWidth>
        <TileHeight>512</TileHeight>
        <MatrixWidth>512</MatrixWidth>
        <MatrixHeight>512</MatrixHeight>
      </TileMatrix>
      <TileMatrix>
        <ows:Identifier>10</ows:Identifier>
        <ScaleDenominator>272989.38673277234</ScaleDenominator>
        <TopLeftCorner>-20037508.3427892 20037508.3427892</TopLeftCorner>
        <TileWidth>512</TileWidth>
        <TileHeight>512</TileHeight>
        <MatrixWidth>1024</MatrixWidth>
        <MatrixHeight>1024</MatrixHeight>
      </TileMatrix>
      <TileMatrix>
        <ows:Identifier>11</ows:Identifier>
        <ScaleDenominator>136494.69336638617</ScaleDenominator>
        <TopLeftCorner>-20037508.3427892 20037508.3427892</TopLeftCorner>
        <TileWidth>512</TileWidth>
        <TileHeight>512</TileHeight>
        <MatrixWidth>2048</MatrixWidth>
        <MatrixHeight>2048</MatrixHeight>
      </TileMatrix>
      <TileMatrix>
        <ows:Identifier>12</ows:Identifier>
        <ScaleDenominator>68247.34668319309</ScaleDenominator>
        <TopLeftCorner>-20037508.3427892 20037508.3427892</TopLeftCorner>
        <TileWidth>512</TileWidth>
        <TileHeight>512</TileHeight>
        <MatrixWidth>4096</MatrixWidth>
        <MatrixHeight>4096</MatrixHeight>
      </TileMatrix>
      <TileMatrix>
        <ows:Identifier>13</ows:Identifier>
        <ScaleDenominator>34123.67334159654</ScaleDenominator>
        <TopLeftCorner>-20037508.3427892 20037508.3427892</TopLeftCorner>
        <TileWidth>512</TileWidth>
        <TileHeight>512</TileHeight>
        <MatrixWidth>8192</MatrixWidth>
        <MatrixHeight>8192</MatrixHeight>
      </TileMatrix>
      <TileMatrix>
        <ows:Identifier>14</ows:Identifier>
        <ScaleDenominator>17061.83667079827</ScaleDenominator>
        <TopLeftCorner>-20037508.3427892 20037508.3427892</TopLeftCorner>
        <TileWidth>512</TileWidth>
        <TileHeight>512</TileHeight>
        <MatrixWidth>16384</MatrixWidth>
        <MatrixHeight>16384</MatrixHeight>
      </TileMatrix>
      <TileMatrix>
        <ows:Identifier>15</ows:Identifier>
        <ScaleDenominator>8530.918335399136</ScaleDenominator>
        <TopLeftCorner>-20037508.3427892 20037508.3427892</TopLeftCorner>
        <TileWidth>512</TileWidth>
        <TileHeight>512</TileHeight>
        <MatrixWidth>32768</MatrixWidth>
        <MatrixHeight>32768</MatrixHeight>
      </TileMatrix>
      <TileMatrix>
        <ows:Identifier>16</ows:Identifier>
        <ScaleDenominator>4265.459167699568</ScaleDenominator>
        <TopLeftCorner>-20037508.3427892 20037508.3427892</TopLeftCorner>
        <TileWidth>512</TileWidth>
        <TileHeight>512</TileHeight>
        <MatrixWidth>65536</MatrixWidth>
        <MatrixHeight>65536</MatrixHeight>
      </TileMatrix>
    </TileMatrixSet>
  </Contents>
  <ServiceMetadataURL xlink:href="https://tileserver.dummthings.dev/kodiak/hro/WebMercatorQuad/WMTSCapabilities.xml"/>
</Capabilities>
