<?xml version="1.0" encoding="UTF-8"?>
<Capabilities xmlns="http://www.opengis.net/wmts/1.0" xmlns:ows="http://www.opengis.net/ows/1.1" xmlns:xlink="http://www.w3.org/1999/xlink" xmlns:xsi="http://www.w3.org/2001/XMLSchema-instance" xsi:schemaLocation="http://www.opengis.net/wmts/1.0 http://schemas.opengis.net/wmts/1.0/wmtsGetCapabilities_response.xsd" version="1.0.0">
  <ows:ServiceIdentification>
    <ows:Title>Kodiak National Wildlife Refuge orthoimagery 2019 (USFWS)</ows:Title>
    <ows:Abstract>Mosaic of 0.68 m orthoimagery of Kodiak National Wildlife Refuge, Alaska, collected in 2019 by the U.S. Fish and Wildlife Service (fixed-wing aerial survey flown by Kenai National Wildlife Refuge), distributed by USGS EROS as High Resolution Orthoimagery. Public domain. Attribution: Imagery: U.S. Fish and Wildlife Service, Kodiak National Wildlife Refuge, 2019 | USGS EROS High Resolution Orthoimagery (doi:10.5066/F73X84W6) | Prepared and hosted by Dumm Software LLC.</ows:Abstract>
    <ows:ServiceType>OGC WMTS</ows:ServiceType>
    <ows:ServiceTypeVersion>1.0.0</ows:ServiceTypeVersion>
    <ows:Fees>none</ows:Fees>
    <ows:AccessConstraints>none</ows:AccessConstraints>
  </ows:ServiceIdentification>
  <ows:ServiceProvider>
    <ows:ProviderName>Dumm Software LLC</ows:ProviderName>
    <ows:ServiceContact/>
  </ows:ServiceProvider>
  <Contents>
    <Layer>
      <ows:Title>Kodiak National Wildlife Refuge orthoimagery 2019 (USFWS)</ows:Title>
      <ows:Abstract>Mosaic of 0.68 m orthoimagery of Kodiak National Wildlife Refuge, Alaska, collected in 2019 by the U.S. Fish and Wildlife Service (fixed-wing aerial survey flown by Kenai National Wildlife Refuge), distributed by USGS EROS as High Resolution Orthoimagery. Public domain. Attribution: Imagery: U.S. Fish and Wildlife Service, Kodiak National Wildlife Refuge, 2019 | USGS EROS High Resolution Orthoimagery (doi:10.5066/F73X84W6) | Prepared and hosted by Dumm Software LLC.</ows:Abstract>
      <ows:WGS84BoundingBox>
        <ows:LowerCorner>-154.8227691 56.6730003</ows:LowerCorner>
        <ows:UpperCorner>-152.7392506 57.9874072</ows:UpperCorner>
      </ows:WGS84BoundingBox>
      <ows:Identifier>nwrhro</ows:Identifier>
      <Style isDefault="true">
        <ows:Identifier>default</ows:Identifier>
      </Style>
      <Format>image/png</Format>
      <TileMatrixSetLink>
        <TileMatrixSet>WebMercatorQuad512</TileMatrixSet>
        <TileMatrixSetLimits>
          <TileMatrixLimits>
            <TileMatrix>6</TileMatrix>
            <MinTileRow>19</MinTileRow>
            <MaxTileRow>19</MaxTileRow>
            <MinTileCol>4</MinTileCol>
            <MaxTileCol>4</MaxTileCol>
          </TileMatrixLimits>
          <TileMatrixLimits>
            <TileMatrix>7</TileMatrix>
            <MinTileRow>38</MinTileRow>
            <MaxTileRow>39</MaxTileRow>
            <MinTileCol>8</MinTileCol>
            <MaxTileCol>9</MaxTileCol>
          </TileMatrixLimits>
          <TileMatrixLimits>
            <TileMatrix>8</TileMatrix>
            <MinTileRow>77</MinTileRow>
            <MaxTileRow>78</MaxTileRow>
            <MinTileCol>17</MinTileCol>
            <MaxTileCol>19</MaxTileCol>
          </TileMatrixLimits>
          <TileMatrixLimits>
            <TileMatrix>9</TileMatrix>
            <MinTileRow>154</MinTileRow>
            <MaxTileRow>157</MaxTileRow>
            <MinTileCol>35</MinTileCol>
            <MaxTileCol>38</MaxTileCol>
          </TileMatrixLimits>
          <TileMatrixLimits>
            <TileMatrix>10</TileMatrix>
            <MinTileRow>308</MinTileRow>
            <MaxTileRow>315</MaxTileRow>
            <MinTileCol>71</MinTileCol>
            <MaxTileCol>77</MaxTileCol>
          </TileMatrixLimits>
          <TileMatrixLimits>
            <TileMatrix>11</TileMatrix>
            <MinTileRow>616</MinTileRow>
            <MaxTileRow>630</MaxTileRow>
            <MinTileCol>143</MinTileCol>
            <MaxTileCol>155</MaxTileCol>
          </TileMatrixLimits>
          <TileMatrixLimits>
            <TileMatrix>12</TileMatrix>
            <MinTileRow>1233</MinTileRow>
            <MaxTileRow>1261</MaxTileRow>
            <MinTileCol>286</MinTileCol>
            <MaxTileCol>310</MaxTileCol>
          </TileMatrixLimits>
          <TileMatrixLimits>
            <TileMatrix>13</TileMatrix>
            <MinTileRow>2467</MinTileRow>
            <MaxTileRow>2523</MaxTileRow>
            <MinTileCol>572</MinTileCol>
            <MaxTileCol>620</MaxTileCol>
          </TileMatrixLimits>
          <TileMatrixLimits>
            <TileMatrix>14</TileMatrix>
            <MinTileRow>4935</MinTileRow>
            <MaxTileRow>5046</MaxTileRow>
            <MinTileCol>1145</MinTileCol>
            <MaxTileCol>1240</MaxTileCol>
          </TileMatrixLimits>
          <TileMatrixLimits>
            <TileMatrix>15</TileMatrix>
            <MinTileRow>9871</MinTileRow>
            <MaxTileRow>10093</MaxTileRow>
            <MinTileCol>2291</MinTileCol>
            <MaxTileCol>2481</MaxTileCol>
          </TileMatrixLimits>
          <TileMatrixLimits>
            <TileMatrix>16</TileMatrix>
            <MinTileRow>19743</MinTileRow>
            <MaxTileRow>20186</MaxTileRow>
            <MinTileCol>4583</MinTileCol>
            <MaxTileCol>4962</MaxTileCol>
          </TileMatrixLimits>
        </TileMatrixSetLimits>
      </TileMatrixSetLink>
      <ResourceURL format="image/png" resourceType="tile" template="https://tileserver.dummthings.dev/kodiak/nwrhro/tiles/WebMercatorQuad/{TileMatrix}/{TileCol}/{TileRow}.png"/>
    </Layer>
    <TileMatrixSet>
      <ows:Identifier>WebMercatorQuad512</ows:Identifier>
      <ows:SupportedCRS>urn:ogc:def:crs:EPSG::3857</ows:SupportedCRS>
      <TileMatrix>
        <ows:Identifier>0</ows:Identifier>
        <ScaleDenominator>279541132.0143589</ScaleDenominator>
        <TopLeftCorner>-20037508.3427892 20037508.3427892</TopLeftCorner>
        <TileWidth>512</TileWidth>
        <TileHeight>512</TileHeight>
        <MatrixWidth>1</MatrixWidth>
        <MatrixHeight>1</MatrixHeight>
      </TileMatrix>
      <TileMatrix>
        <ows:Identifier>1</ows:Identifier>
        <ScaleDenominator>139770566.00717944</ScaleDenominator>
        <TopLeftCorner>-20037508.3427892 20037508.3427892</TopLeftCorner>
        <TileWidth>512</TileWidth>
        <TileHeight>512</TileHeight>
        <MatrixWidth>2</MatrixWidth>
        <MatrixHeight>2</MatrixHeight>
      </TileMatrix>
      <TileMatrix>
        <ows:Identifier>2</ows:Identifier>
        <ScaleDenominator>69885283.00358972</ScaleDenominator>
        <TopLeftCorner>-20037508.3427892 20037508.3427892</TopLeftCorner>
        <TileWidth>512</TileWidth>
        <TileHeight>512</TileHeight>
        <MatrixWidth>4</MatrixWidth>
        <MatrixHeight>4</MatrixHeight>
      </TileMatrix>
      <TileMatrix>
        <ows:Identifier>3</ows:Identifier>
        <ScaleDenominator>34942641.50179486</ScaleDenominator>
        <TopLeftCorner>-20037508.3427892 20037508.3427892</TopLeftCorner>
        <TileWidth>512</TileWidth>
        <TileHeight>512</TileHeight>
        <MatrixWidth>8</MatrixWidth>
        <MatrixHeight>8</MatrixHeight>
      </TileMatrix>
      <TileMatrix>
        <ows:Identifier>4</ows:Identifier>
        <ScaleDenominator>17471320.75089743</ScaleDenominator>
        <TopLeftCorner>-20037508.3427892 20037508.3427892</TopLeftCorner>
        <TileWidth>512</TileWidth>
        <TileHeight>512</TileHeight>
        <MatrixWidth>16</MatrixWidth>
        <MatrixHeight>16</MatrixHeight>
      </TileMatrix>
      <TileMatrix>
        <ows:Identifier>5</ows:Identifier>
        <ScaleDenominator>8735660.375448715</ScaleDenominator>
        <TopLeftCorner>-20037508.3427892 20037508.3427892</TopLeftCorner>
        <TileWidth>512</TileWidth>
        <TileHeight>512</TileHeight>
        <MatrixWidth>32</MatrixWidth>
        <MatrixHeight>32</MatrixHeight>
      </TileMatrix>
      <TileMatrix>
        <ows:Identifier>6</ows:Identifier>
        <ScaleDenominator>4367830.1877243575</ScaleDenominator>
        <TopLeftCorner>-20037508.3427892 20037508.3427892</TopLeftCorner>
        <TileWidth>512</TileWidth>
        <TileHeight>512</TileHeight>
        <MatrixWidth>64</MatrixWidth>
        <MatrixHeight>64</MatrixHeight>
      </TileMatrix>
      <TileMatrix>
        <ows:Identifier>7</ows:Identifier>
        <ScaleDenominator>2183915.0938621787</ScaleDenominator>
        <TopLeftCorner>-20037508.3427892 20037508.3427892</TopLeftCorner>
        <TileWidth>512</TileWidth>
        <TileHeight>512</TileHeight>
        <MatrixWidth>128</MatrixWidth>
        <MatrixHeight>128</MatrixHeight>
      </TileMatrix>
      <TileMatrix>
        <ows:Identifier>8</ows:Identifier>
        <ScaleDenominator>1091957.5469310894</ScaleDenominator>
        <TopLeftCorner>-20037508.3427892 20037508.3427892</TopLeftCorner>
        <TileWidth>512</TileWidth>
        <TileHeight>512</TileHeight>
        <MatrixWidth>256</MatrixWidth>
        <MatrixHeight>256</MatrixHeight>
      </TileMatrix>
      <TileMatrix>
        <ows:Identifier>9</ows:Identifier>
        <ScaleDenominator>545978.7734655447</ScaleDenominator>
        <TopLeftCorner>-20037508.3427892 20037508.3427892</TopLeftCorner>
        <TileWidth>512</TileWidth>
        <TileHeight>512</TileHeight>
        <MatrixWidth>512</MatrixWidth>
        <MatrixHeight>512</MatrixHeight>
      </TileMatrix>
      <TileMatrix>
        <ows:Identifier>10</ows:Identifier>
        <ScaleDenominator>272989.38673277234</ScaleDenominator>
        <TopLeftCorner>-20037508.3427892 20037508.3427892</TopLeftCorner>
        <TileWidth>512</TileWidth>
        <TileHeight>512</TileHeight>
        <MatrixWidth>1024</MatrixWidth>
        <MatrixHeight>1024</MatrixHeight>
      </TileMatrix>
      <TileMatrix>
        <ows:Identifier>11</ows:Identifier>
        <ScaleDenominator>136494.69336638617</ScaleDenominator>
        <TopLeftCorner>-20037508.3427892 20037508.3427892</TopLeftCorner>
        <TileWidth>512</TileWidth>
        <TileHeight>512</TileHeight>
        <MatrixWidth>2048</MatrixWidth>
        <MatrixHeight>2048</MatrixHeight>
      </TileMatrix>
      <TileMatrix>
        <ows:Identifier>12</ows:Identifier>
        <ScaleDenominator>68247.34668319309</ScaleDenominator>
        <TopLeftCorner>-20037508.3427892 20037508.3427892</TopLeftCorner>
        <TileWidth>512</TileWidth>
        <TileHeight>512</TileHeight>
        <MatrixWidth>4096</MatrixWidth>
        <MatrixHeight>4096</MatrixHeight>
      </TileMatrix>
      <TileMatrix>
        <ows:Identifier>13</ows:Identifier>
        <ScaleDenominator>34123.67334159654</ScaleDenominator>
        <TopLeftCorner>-20037508.3427892 20037508.3427892</TopLeftCorner>
        <TileWidth>512</TileWidth>
        <TileHeight>512</TileHeight>
        <MatrixWidth>8192</MatrixWidth>
        <MatrixHeight>8192</MatrixHeight>
      </TileMatrix>
      <TileMatrix>
        <ows:Identifier>14</ows:Identifier>
        <ScaleDenominator>17061.83667079827</ScaleDenominator>
        <TopLeftCorner>-20037508.3427892 20037508.3427892</TopLeftCorner>
        <TileWidth>512</TileWidth>
        <TileHeight>512</TileHeight>
        <MatrixWidth>16384</MatrixWidth>
        <MatrixHeight>16384</MatrixHeight>
      </TileMatrix>
      <TileMatrix>
        <ows:Identifier>15</ows:Identifier>
        <ScaleDenominator>8530.918335399136</ScaleDenominator>
        <TopLeftCorner>-20037508.3427892 20037508.3427892</TopLeftCorner>
        <TileWidth>512</TileWidth>
        <TileHeight>512</TileHeight>
        <MatrixWidth>32768</MatrixWidth>
        <MatrixHeight>32768</MatrixHeight>
      </TileMatrix>
      <TileMatrix>
        <ows:Identifier>16</ows:Identifier>
        <ScaleDenominator>4265.459167699568</ScaleDenominator>
        <TopLeftCorner>-20037508.3427892 20037508.3427892</TopLeftCorner>
        <TileWidth>512</TileWidth>
        <TileHeight>512</TileHeight>
        <MatrixWidth>65536</MatrixWidth>
        <MatrixHeight>65536</MatrixHeight>
      </TileMatrix>
    </TileMatrixSet>
  </Contents>
  <ServiceMetadataURL xlink:href="https://tileserver.dummthings.dev/kodiak/nwrhro/WebMercatorQuad/WMTSCapabilities.xml"/>
</Capabilities>
